BEGIN:VCALENDAR
VERSION:2.0
PRODID:-//ChamberMaster//Event Calendar 2.0//EN
METHOD:PUBLISH
X-PUBLISHED-TTL:P3D
REFRESH-INTERVAL:P3D
CALSCALE:GREGORIAN
BEGIN:VEVENT
DTSTART:20260627T170000Z
DTEND:20260627T220000Z
X-MICROSOFT-CDO-ALLDAYEVENT:FALSE
SUMMARY:Dallas Rotary Wine & Brew Fest
DESCRIPTION:The Rotary Club of Dallas is proud to announce its 2026 Wine & Brew Fest\, taking place on Saturday\, June 27\, 2026\, at the Luzerne County Fairgrounds. The event will run from 1:00 p.m. to 6:00 p.m.\, with VIP early access beginning at 12:00 p.m. Attendees can enjoy a lively afternoon featuring a variety of regional wineries\, breweries\, local vendors\, and live entertainment. The festival offers an opportunity to sample beverages\, explore unique products\, and enjoy great music and entertainment in a festive outdoor setting. General admission tickets are available in advance for $25 or may be purchased at the gate on the day of the event for $35. Gate admission opens at 1:00 p.m. VIP tickets are available in advance for $50 and include exclusive early entry at 12:00 p.m. Tickets may be purchased prior to the event\, and walk-in guests are welcome. For additional information\, including frequently asked questions\, please visit http://www.rotaryclubofdallaspa.org or contact Paul Saxon\, the Rotary Club of Dallas at 570-592-1465 or email at dallasrotary@gmail.com. Join us for an afternoon of great drinks\, live entertainment\, local flavor\, and community fun.
X-ALT-DESC;FMTTYPE=text/html:The Rotary Club of Dallas is proud to announce its 2026 Wine &amp\; Brew Fest\, taking place on Saturday\, June 27\, 2026\, at the Luzerne County Fairgrounds. The event will run from 1:00 p.m. to 6:00 p.m.\, with VIP early access beginning at 12:00 p.m. Attendees can enjoy a lively afternoon featuring a variety of regional wineries\, breweries\, local vendors\, and live entertainment. The festival offers an opportunity to sample beverages\, explore unique products\, and enjoy great music and entertainment in a festive outdoor setting. General admission tickets are available in advance for $25 or may be purchased at the gate on the day of the event for $35. Gate admission opens at 1:00 p.m. VIP tickets are available in advance for $50 and include exclusive early entry at 12:00 p.m. Tickets may be purchased prior to the event\, and walk-in guests are welcome. For additional information\, including frequently asked questions\, please visit http://www.rotaryclubofdallaspa.org or contact Paul Saxon\, the Rotary Club of Dallas at 570-592-1465 or email at dallasrotary@gmail.com. Join us for an afternoon of great drinks\, live entertainment\, local flavor\, and community fun.
LOCATION:Luzerne County Fairgrounds 3605 State Route 118 Dallas\, PA 18612
UID:e.3296.1224
SEQUENCE:3
DTSTAMP:20260423T153057Z
URL:https://business.backmountainchamber.net/events/details/dallas-rotary-wine-brew-fest-06-27-2026-1224
END:VEVENT

END:VCALENDAR
