BEGIN:VCALENDAR
VERSION:2.0
PRODID:-//ChamberMaster//Event Calendar 2.0//EN
METHOD:PUBLISH
X-PUBLISHED-TTL:P3D
REFRESH-INTERVAL:P3D
CALSCALE:GREGORIAN
BEGIN:VEVENT
DTSTART:20261021T213000Z
DTEND:20261022T000000Z
X-MICROSOFT-CDO-ALLDAYEVENT:FALSE
SUMMARY:Annual Awards Dinner
DESCRIPTION:The Northeast Sight Services Annual Awards Dinner is a special evening dedicated to celebrating the individuals\, partners\, and community champions who help advance our mission of empowering people who are blind or visually impaired across Northeastern Pennsylvania. Each year\, the event brings together supporters\, sponsors\, volunteers\, and friends for an inspiring night of connection\, storytelling\, and recognition. Through meaningful award presentations and mission-focused moments\, we highlight the impact made possible through community generosity   from life-changing assistive technology and vision screenings to youth programs and independence-building services. More than a celebration\, the Annual Awards Dinner is one of Northeast Sight Services' signature fundraising events\, helping ensure that critical programs and resources remain accessible to those who rely on them. We look forward to another memorable evening in 2026 as we gather to honor impact\, celebrate leadership\, and invest in a future of greater independence for all.
X-ALT-DESC;FMTTYPE=text/html:The Northeast Sight Services Annual Awards Dinner is a special evening dedicated to celebrating the individuals\, partners\, and community champions who help advance our mission of empowering people who are blind or visually impaired across Northeastern Pennsylvania. Each year\, the event brings together supporters\, sponsors\, volunteers\, and friends for an inspiring night of connection\, storytelling\, and recognition. Through meaningful award presentations and mission-focused moments\, we highlight the impact made possible through community generosity &mdash\; from life-changing assistive technology and vision screenings to youth programs and independence-building services. More than a celebration\, the Annual Awards Dinner is one of Northeast Sight Services&rsquo\; signature fundraising events\, helping ensure that critical programs and resources remain accessible to those who rely on them. We look forward to another memorable evening in 2026 as we gather to honor impact\, celebrate leadership\, and invest in a future of greater independence for all.
LOCATION:TBD
UID:e.3296.1191
SEQUENCE:3
DTSTAMP:20260419T121305Z
URL:https://business.backmountainchamber.net/events/details/annual-awards-dinner-1191
END:VEVENT

END:VCALENDAR
